BEGIN:VCALENDAR
VERSION:2.0
PRODID:-//Havering Singers - ECPv6.15.20//NONSGML v1.0//EN
CALSCALE:GREGORIAN
METHOD:PUBLISH
X-ORIGINAL-URL:https://haveringsingers.org.uk
X-WR-CALDESC:Events for Havering Singers
REFRESH-INTERVAL;VALUE=DURATION:PT1H
X-Robots-Tag:noindex
X-PUBLISHED-TTL:PT1H
BEGIN:VTIMEZONE
TZID:Europe/London
BEGIN:DAYLIGHT
TZOFFSETFROM:+0000
TZOFFSETTO:+0100
TZNAME:BST
DTSTART:20210328T010000
END:DAYLIGHT
BEGIN:STANDARD
TZOFFSETFROM:+0100
TZOFFSETTO:+0000
TZNAME:GMT
DTSTART:20211031T010000
END:STANDARD
BEGIN:DAYLIGHT
TZOFFSETFROM:+0000
TZOFFSETTO:+0100
TZNAME:BST
DTSTART:20220327T010000
END:DAYLIGHT
BEGIN:STANDARD
TZOFFSETFROM:+0100
TZOFFSETTO:+0000
TZNAME:GMT
DTSTART:20221030T010000
END:STANDARD
BEGIN:DAYLIGHT
TZOFFSETFROM:+0000
TZOFFSETTO:+0100
TZNAME:BST
DTSTART:20230326T010000
END:DAYLIGHT
BEGIN:STANDARD
TZOFFSETFROM:+0100
TZOFFSETTO:+0000
TZNAME:GMT
DTSTART:20231029T010000
END:STANDARD
END:VTIMEZONE
BEGIN:VEVENT
DTSTART;TZID=Europe/London:20220402T193000
DTEND;TZID=Europe/London:20220402T220000
DTSTAMP:20260424T165214
CREATED:20220112T081308Z
LAST-MODIFIED:20220912T190342Z
UID:840-1648927800-1648936800@haveringsingers.org.uk
SUMMARY:75th Anniversary Concert - Handel's Messiah
DESCRIPTION:Tickets: £TBC \n\n\n\n\nBUY TICKETS
URL:https://haveringsingers.org.uk/event/75th-anniversary-concert-handels-messiah/
LOCATION:St. Peter’s Church\, St. Peter's Church Harold Wood\, Gubbins Lane\, Essex\, RM3 0QA\, United Kingdom
CATEGORIES:Concerts
END:VEVENT
BEGIN:VEVENT
DTSTART;TZID=Europe/London:20220423T140000
DTEND;TZID=Europe/London:20220423T170000
DTSTAMP:20260424T165214
CREATED:20220329T162324Z
LAST-MODIFIED:20220412T064642Z
UID:962-1650722400-1650733200@haveringsingers.org.uk
SUMMARY:Come & Sing - Songs of the 60s
DESCRIPTION:Tickets: £TBC \n\n\n\n\nBUY TICKETS
URL:https://haveringsingers.org.uk/event/come-sing-songs-of-the-60s/
LOCATION:St. Peter’s Church\, St. Peter's Church Harold Wood\, Gubbins Lane\, Essex\, RM3 0QA\, United Kingdom
CATEGORIES:Concerts
END:VEVENT
END:VCALENDAR