BEGIN:VCALENDAR
VERSION:2.0
PRODID:-//Havering Singers - ECPv6.15.20//NONSGML v1.0//EN
CALSCALE:GREGORIAN
METHOD:PUBLISH
X-WR-CALNAME:Havering Singers
X-ORIGINAL-URL:https://haveringsingers.org.uk
X-WR-CALDESC:Events for Havering Singers
REFRESH-INTERVAL;VALUE=DURATION:PT1H
X-Robots-Tag:noindex
X-PUBLISHED-TTL:PT1H
BEGIN:VTIMEZONE
TZID:Europe/London
BEGIN:DAYLIGHT
TZOFFSETFROM:+0000
TZOFFSETTO:+0100
TZNAME:BST
DTSTART:20200329T010000
END:DAYLIGHT
BEGIN:STANDARD
TZOFFSETFROM:+0100
TZOFFSETTO:+0000
TZNAME:GMT
DTSTART:20201025T010000
END:STANDARD
BEGIN:DAYLIGHT
TZOFFSETFROM:+0000
TZOFFSETTO:+0100
TZNAME:BST
DTSTART:20210328T010000
END:DAYLIGHT
BEGIN:STANDARD
TZOFFSETFROM:+0100
TZOFFSETTO:+0000
TZNAME:GMT
DTSTART:20211031T010000
END:STANDARD
BEGIN:DAYLIGHT
TZOFFSETFROM:+0000
TZOFFSETTO:+0100
TZNAME:BST
DTSTART:20220327T010000
END:DAYLIGHT
BEGIN:STANDARD
TZOFFSETFROM:+0100
TZOFFSETTO:+0000
TZNAME:GMT
DTSTART:20221030T010000
END:STANDARD
END:VTIMEZONE
BEGIN:VEVENT
DTSTART;TZID=Europe/London:20211106T193000
DTEND;TZID=Europe/London:20211106T213000
DTSTAMP:20260424T204917
CREATED:20210905T175118Z
LAST-MODIFIED:20230113T195536Z
UID:824-1636227000-1636234200@haveringsingers.org.uk
SUMMARY:Autumn Concert 2021 - Choral Favourites
DESCRIPTION:Tickets: £TBC \n\n\n\n\nBUY TICKETS
URL:https://haveringsingers.org.uk/event/autumn-concert-2021-choral-favourites/
LOCATION:Essex
CATEGORIES:Concerts
END:VEVENT
END:VCALENDAR